BEGIN:VCALENDAR
VERSION:2.0
PRODID:-//crypto-stamps.org - ECPv6.15.20//NONSGML v1.0//EN
CALSCALE:GREGORIAN
METHOD:PUBLISH
X-ORIGINAL-URL:https://crypto-stamps.org
X-WR-CALDESC:Events for crypto-stamps.org
REFRESH-INTERVAL;VALUE=DURATION:PT1H
X-Robots-Tag:noindex
X-PUBLISHED-TTL:PT1H
BEGIN:VTIMEZONE
TZID:Europe/Paris
BEGIN:DAYLIGHT
TZOFFSETFROM:+0100
TZOFFSETTO:+0200
TZNAME:CEST
DTSTART:20250330T010000
END:DAYLIGHT
BEGIN:STANDARD
TZOFFSETFROM:+0200
TZOFFSETTO:+0100
TZNAME:CET
DTSTART:20251026T010000
END:STANDARD
BEGIN:DAYLIGHT
TZOFFSETFROM:+0100
TZOFFSETTO:+0200
TZNAME:CEST
DTSTART:20260329T010000
END:DAYLIGHT
BEGIN:STANDARD
TZOFFSETFROM:+0200
TZOFFSETTO:+0100
TZNAME:CET
DTSTART:20261025T010000
END:STANDARD
BEGIN:DAYLIGHT
TZOFFSETFROM:+0100
TZOFFSETTO:+0200
TZNAME:CEST
DTSTART:20270328T010000
END:DAYLIGHT
BEGIN:STANDARD
TZOFFSETFROM:+0200
TZOFFSETTO:+0100
TZNAME:CET
DTSTART:20271031T010000
END:STANDARD
END:VTIMEZONE
BEGIN:VEVENT
DTSTART;TZID=Europe/Paris:20260424T180000
DTEND;TZID=Europe/Paris:20260424T230000
DTSTAMP:20260421T190413
CREATED:20260407T191440Z
LAST-MODIFIED:20260419T075645Z
UID:10000188-1777053600-1777071600@crypto-stamps.org
SUMMARY:AUSTRIA - Stammtisch N°17 - AUSTRIA CS Association
DESCRIPTION:https://www.pulkautaler-weinhaus.at/
URL:https://crypto-stamps.org/events/austria-stammtisch-n17-austria-cs-association/
LOCATION:Pulkautaler Winehouse and Restaurant\, Felberstraße 2\, Wien\, 1150\, Austria
ATTACH;FMTTYPE=image/jpeg:https://crypto-stamps.org/wp-content/uploads/2026/04/Capture-decran-2026-04-19-095452.jpg
END:VEVENT
BEGIN:VEVENT
DTSTART;TZID=Europe/Paris:20260429T100000
DTEND;TZID=Europe/Paris:20260529T170000
DTSTAMP:20260421T190413
CREATED:20260416T041751Z
LAST-MODIFIED:20260416T041751Z
UID:10000190-1777456800-1780074000@crypto-stamps.org
SUMMARY:LIECHTENSTEIN - Crypto Circus N°2 - The Acrobat
DESCRIPTION:Following the magician\, the Crypto Circus moves into the next round. With the acrobat\, a character enters the ring who embodies excitement\, precision and courage. For that one moment when everything is at stake – and that is precisely where the magic lies. The acrobat embodies the balance between control and risk. She represents all those who dare to do more. For collectors who don’t stand still\, but keep moving forward. \nShe moves elegantly and with complete focus across the ring. Every step is precise. Every moment counts. The Acrobat represents everyone who dares to do more. For collectors who don’t stand still\, but want to expand their own collection.
URL:https://crypto-stamps.org/events/liechtenstein-crypto-circus-n2-the-acrobat/
ATTACH;FMTTYPE=image/png:https://crypto-stamps.org/wp-content/uploads/2026/04/tmpimageup_7XydLt.png
END:VEVENT
BEGIN:VEVENT
DTSTART;TZID=Europe/Paris:20260519T090000
DTEND;TZID=Europe/Paris:20260619T170000
DTSTAMP:20260421T190413
CREATED:20260416T040341Z
LAST-MODIFIED:20260421T165532Z
UID:10000189-1779181200-1781888400@crypto-stamps.org
SUMMARY:FRANCE - NFtimbre N°8 - The little Prince
DESCRIPTION:On May 19\, 2026\, La Poste is launching a new series #NFTimbre8 on www.NFTimbre.com to mark the 80th anniversary of the publication of the first edition of The Little Prince. \nHot foil stamping with a “metallic blue” effect enhances the title “The Little Prince” as well as some stars on each physical block. \n  \nHappy birthday\, The Little Prince! \nPublished in France in 1946\, Antoine de Saint-Exupéry’s The Little Prince has become an iconic work of French literature and a true global publishing phenomenon. This poetic tale recounts the encounter between an aviator and a child from another planet\, who brings a pure and essential perspective on the world.\nHappy birthday\, The Little Prince!\nImages based on mock-ups – Colors may vary / Available upon request.\nThrough his journey\, his encounters\, and his unique bond with the fox\, he conveys a universal message about love and the connections that unite us. Translated into more than 650 languages ​​and dialects\, The Little Prince continues to enchant millions of readers across generations. \n© La Poste – Antoine de Saint-Exupéry Estate – 2026 All rights reserved \n  \nAbout… \nThe Little Prince is a publishing phenomenon that transcends borders and eras\, carrying the universal message of Antoine de Saint-Exupéry. Every year\, 5 million copies of this legendary book are sold worldwide. The Little Prince captivates readers with the values ​​it embodies and the message of hope it conveys. It is a book to pass on\, to give as a gift\, to share. This globally successful character continues his journey across generations and continents\, successfully adapting into all forms: film\, animated series\, exhibitions and musical performances\, theme parks\, and events all over the world! \nThe Little Prince® © SOGEX- 2026 All rights reserved
URL:https://crypto-stamps.org/events/france-nftimbre-n8-the-little-prince/
ATTACH;FMTTYPE=image/png:https://crypto-stamps.org/wp-content/uploads/2026/04/visuel-NFTimbre8-Le-Petit-Prince.png
END:VEVENT
BEGIN:VEVENT
DTSTART;TZID=Europe/Paris:20260604T080000
DTEND;TZID=Europe/Paris:20260604T170000
DTSTAMP:20260421T190413
CREATED:20260401T190852Z
LAST-MODIFIED:20260402T051634Z
UID:10000186-1780560000-1780592400@crypto-stamps.org
SUMMARY:NFC SUMMIT - LISBONNE
DESCRIPTION:
URL:https://crypto-stamps.org/events/nfc-summit/
ATTACH;FMTTYPE=image/jpeg:https://crypto-stamps.org/wp-content/uploads/2026/04/0b6ba456-fb48-4d79-8c74-46893314583a_1500x500.jpg
END:VEVENT
BEGIN:VEVENT
DTSTART;TZID=Europe/Paris:20260611T080000
DTEND;TZID=Europe/Paris:20260613T170000
DTSTAMP:20260421T190413
CREATED:20260402T051949Z
LAST-MODIFIED:20260402T052623Z
UID:10000187-1781164800-1781370000@crypto-stamps.org
SUMMARY:PARIS PHILEX - du 11 juin au 14 juin 2026
DESCRIPTION:
URL:https://crypto-stamps.org/events/paris-philex-du-11-juin-au-14-juin-2026/
ATTACH;FMTTYPE=image/png:https://crypto-stamps.org/wp-content/uploads/2026/04/Logo_Paris_philex-544x768-1.png
END:VEVENT
BEGIN:VEVENT
DTSTART;TZID=Europe/Paris:20260611T090000
DTEND;TZID=Europe/Paris:20260611T170000
DTSTAMP:20260421T190414
CREATED:20260304T174842Z
LAST-MODIFIED:20260304T175219Z
UID:10000184-1781168400-1781197200@crypto-stamps.org
SUMMARY:GERMANY - Humans as Explorers N°1 - Mariana Trench
DESCRIPTION:    \nINFORMATION NEED TO BE CONFIRMED \n  \nPrint run of 50\,000 in the colors:\no Pink: 5% / 2\,500\no Blue: 10% / 5\,000\no Green: 35% / 17\,500\no Orange: 50% / 25\,000 \n• Formats:\no Crypto Booklet (47\,500)\no 4 pack (500 albums → 2\,000 booklets)\no Special Card (500 pink) (as a replacement for the Gold Edition\, although we are still in the design phase) \n• New feature: Customized NFT\no The owner can choose during minting whether to use the standard version or one of four additional visual elements in the digital artwork.\no This allows collectors to obtain different NFT variants even when the physical crypto stamps have the same color.
URL:https://crypto-stamps.org/events/germany-humans-as-explorers-n1-mariana-trench/
ATTACH;FMTTYPE=image/jpeg:https://crypto-stamps.org/wp-content/uploads/2026/03/B9722265200Z.1_20200117171120_000GTFFAMSV2.1-0.jpg
END:VEVENT
END:VCALENDAR