BEGIN:VCALENDAR
VERSION:2.0
PRODID:-//crypto-stamps.org - ECPv6.15.20//NONSGML v1.0//EN
CALSCALE:GREGORIAN
METHOD:PUBLISH
X-ORIGINAL-URL:https://crypto-stamps.org
X-WR-CALDESC:Events for crypto-stamps.org
REFRESH-INTERVAL;VALUE=DURATION:PT1H
X-Robots-Tag:noindex
X-PUBLISHED-TTL:PT1H
BEGIN:VTIMEZONE
TZID:Europe/Paris
BEGIN:DAYLIGHT
TZOFFSETFROM:+0100
TZOFFSETTO:+0200
TZNAME:CEST
DTSTART:20250330T010000
END:DAYLIGHT
BEGIN:STANDARD
TZOFFSETFROM:+0200
TZOFFSETTO:+0100
TZNAME:CET
DTSTART:20251026T010000
END:STANDARD
BEGIN:DAYLIGHT
TZOFFSETFROM:+0100
TZOFFSETTO:+0200
TZNAME:CEST
DTSTART:20260329T010000
END:DAYLIGHT
BEGIN:STANDARD
TZOFFSETFROM:+0200
TZOFFSETTO:+0100
TZNAME:CET
DTSTART:20261025T010000
END:STANDARD
BEGIN:DAYLIGHT
TZOFFSETFROM:+0100
TZOFFSETTO:+0200
TZNAME:CEST
DTSTART:20270328T010000
END:DAYLIGHT
BEGIN:STANDARD
TZOFFSETFROM:+0200
TZOFFSETTO:+0100
TZNAME:CET
DTSTART:20271031T010000
END:STANDARD
END:VTIMEZONE
BEGIN:VEVENT
DTSTART;TZID=Europe/Paris:20260212T080000
DTEND;TZID=Europe/Paris:20260412T170000
DTSTAMP:20260421T152522
CREATED:20260201T122151Z
LAST-MODIFIED:20260328T043121Z
UID:10000174-1770883200-1776013200@crypto-stamps.org
SUMMARY:AUSTRIA - CASSIUS - VIP GOLD EDITION
DESCRIPTION:Information coming soon
URL:https://crypto-stamps.org/events/austria-cassius-vip-gold-edition/
ATTACH;FMTTYPE=image/jpeg:https://crypto-stamps.org/wp-content/uploads/2026/02/Capture-decran-2026-02-01-131748.jpg
END:VEVENT
BEGIN:VEVENT
DTSTART;TZID=Europe/Paris:20260226T090000
DTEND;TZID=Europe/Paris:20260326T170000
DTSTAMP:20260421T152522
CREATED:20260207T161900Z
LAST-MODIFIED:20260308T091356Z
UID:10000176-1772096400-1774544400@crypto-stamps.org
SUMMARY:LIECHTENSTEIN - Crypto Circus N°1 - The magician - STAMPS + NFT
DESCRIPTION:The curtain rises: With Crypto Circus\, we are celebrating five years of Liechtenstein crypto stamps with a new series that makes collecting an experience. Crypto Circus is available in five different colours: red\, blue\, green\, purple and rainbow. All five crypto stamps feature the same motif: the magician in a colourful circus world. What distinguishes them is their colour\, rarity and print run. Discover the five colours of the magician now and secure your personal tickets for the Crypto Circus. \n     \nRED – 3 500 ex – CHF 9.90                            BLUE – 150 ex – CHF – 99\,00                          GREEN – 100 ex – CHF 199\,00                      PURPLE – 75 ex – CHF 299\,00                       RAINBOW – 50 ex – CHF 499\,00 \n  \n🎁Prize draw: When chance works its magic🎁\nTo mark our 5th anniversary\, we are putting on a circus and raffling off exclusive crypto stamps from the ‘Crypto Circus’ edition worth a total of over CHF 2\,000 among all ticket numbers\, including 1x the coveted rainbow crypto stamp worth CHF 499.-! \nYou will find your personal ticket number on the back of the stamp block. Once on the block itself and a second time on the detachable ticket strip at the bottom. If your number wins\, detach the strip and send it to us. Curtains up. \n🎟️ Every crypto stamp automatically participates\n🎟️ No registration\, no additional effort required on your part\n🎟️ The more stamps you have\, the more chances you have to win \nPrizes: \n\n1x Rainbow Crypto Stamp\n2x Violet Crypto Stamp\n3x Green Crypto Stamp\n4x Blue Crypto Stamp\n10x Red Crypto Stamp\n\n 
URL:https://crypto-stamps.org/events/liechtenstein-circus-n1/
ATTACH;FMTTYPE=image/png:https://crypto-stamps.org/wp-content/uploads/2026/02/NFTS.png
END:VEVENT
BEGIN:VEVENT
DTSTART;TZID=Europe/Paris:20260302T080000
DTEND;TZID=Europe/Paris:20260504T170000
DTSTAMP:20260421T152522
CREATED:20260214T112230Z
LAST-MODIFIED:20260328T043257Z
UID:10000180-1772438400-1777914000@crypto-stamps.org
SUMMARY:AUSTRALIA - Year of the Horse Lunar New Year 2026
DESCRIPTION:Year of the Horse Lunar New Year 2026 \nPut a stamp on history with our first-ever DigiStamps Unveiling Australia Post’s new DigiStamps – a range of stamps that have a digital collectable. \nThe Chinese Zodiac is made up of a 12-year cycle\, with animals representing years. The Year of the Horse\, with the fixed element of fire\, begins on 17 February 2026. Those born in the Year of the Horse are confident and self-assured. They are strong leaders\, active\, social and will hold their own in all situations. Horses make excellent teachers\, publicists\, journalists\, politicians and performers. This stamp issue has been illustrated by Chrissy Lau. \nPrice $15 \nDigiStamp $1.70 Plum Blossom Fire Horse – 10 100 ex \nDigiStamp $3.40 Fire Lantern Horse – 10 100 ex \nDigiStamp $3.50 (International) Longevity Knot Fire Horse – 10 100 ex \nDigiStamp pack $45 – 3 000 ex \n15 digital collectables to collect! \n DigiStamp is a physical postage stamp + a free digital token on the Polygon blockchain.\nTokens are SBT (Soulbound) – they cannot be sold\, transferred\, or listed on platforms such as OpenSea.\n Each DigiStamp has its own built-in wallet.\nActivation via QR or NFC.\nOnce activated\, the token is permanently linked to that card.\n The token cannot be transferred to your own wallet.\n It cannot be sold on a marketplace.\n You must keep the physical card to access the token.\n Australia Post has confirmed that DigiStamps are not shipped internationally – purchase is available online (AU) or in selected Post Offices within Australia. \nVisit auspost.com.au/digistamps to see the full range soon
URL:https://crypto-stamps.org/events/australia-year-of-the-horse-lunar-new-year-2026/
ATTACH;FMTTYPE=image/jpeg:https://crypto-stamps.org/wp-content/uploads/2026/02/Capture-decran-2026-02-14-122155.jpg
END:VEVENT
BEGIN:VEVENT
DTSTART;TZID=Europe/Paris:20260319T100000
DTEND;TZID=Europe/Paris:20260519T170000
DTSTAMP:20260421T152522
CREATED:20260227T071346Z
LAST-MODIFIED:20260328T043214Z
UID:10000183-1773914400-1779210000@crypto-stamps.org
SUMMARY:AUSTRIA - CRYPTO STAMPS ISLAND - Ronny Ratel and Lex Leo
DESCRIPTION:  \nCrypto Stamp Island continues to grow:\nThe collectible world is expanding! \nWith the popular Crypto Stamp comic characters\, last year’s successful series enters its next round—steadily evolving into a large collectible universe. The combination of Crypto Stamp and postage stamps makes the new edition a highlight for collectors who love both classic philately and modern collectibles and trading cards. \nThe new Crypto Stamps are available in stamp sets. Each set contains one Crypto Stamp with a face value of €11.35 as well as three randomly selected additional cards. These additional cards are CRYPTO STAMP ISLAND postage stamps with a face value of €2.00 each. The different additional cards are divided into three categories: locations\, artifacts\, and characters. Each pack therefore offers a new chance for rare combinations and surprises. \nRonny Ratel and Rex Leo kick things off.\nThese two striking new comic characters will expand the world of Crypto Stamps starting on March 19\, 2026. Both designs blend seamlessly into the existing comic universe and offer collectors new visual highlights as well as exciting additions to their personal collections. \nThe stamp sets are available at a price of €17.35 and have a print run of 6\,050 pieces each. \nFor everyone who wants to store their collection stylishly and neatly\, there is an exclusive new release this year: a dedicated Crypto Stamp collector’s album. The exclusive comic design\, colorful illustrations\, and expressive details make the album a collectible item in its own right. The album contains 10 transparent insert sheets with a total of 20 pages and 180 pockets—perfect for collecting and organizing Crypto Stamps and CRYPTO STAMP ISLAND postage stamps. The collector’s album will also be available starting March 19\, 2026\, is limited to 1\,000 pieces\, and costs €29.90. \nThe stamp sets and the collector’s album are available in the online shop\, through the collector service\, and at selected sales points. The stamp sets are also available in Philapunkt branches. \nA special highlight awaits collectors on the first day of issue\, March 19: starting at 9 a.m.\, an exclusive event will take place at the Philatelie Shop 1030\, featuring a stamp presentation and a signing session from 10 to 11 a.m. with Thomas Aigelsreiter and Andreas Paar\, the artists behind the Crypto Stamps and the CRYPTO STAMP ISLAND comic. It’s the perfect opportunity to hold the new releases in your hands for the first time\, have them signed\, and meet other fans from the Crypto Stamp community. Customers can also look forward to an exclusive goodie with any purchase made on-site on the first day. \nImportant: Subscribers of the XL and XXL subscriptions will receive the Crypto Stamps Ronny Ratel and Rex Leo individually by mail. XXL subscribers will also receive the CRYPTO STAMP ISLAND postage stamps (additional cards) with the release of the final comic character at the end of 2026.
URL:https://crypto-stamps.org/events/austria-crypto-stamps-island-ronny-ratel-and-lex-leo/
ATTACH;FMTTYPE=image/png:https://crypto-stamps.org/wp-content/uploads/2026/02/CSI2026_MOCKUP_VERPACKUNG_REXLEO_888px_300dpi.png
END:VEVENT
END:VCALENDAR