BEGIN:VCALENDAR
VERSION:2.0
PRODID:-//crypto-stamps.org - ECPv6.15.20//NONSGML v1.0//EN
CALSCALE:GREGORIAN
METHOD:PUBLISH
X-WR-CALNAME:crypto-stamps.org
X-ORIGINAL-URL:https://crypto-stamps.org
X-WR-CALDESC:Events for crypto-stamps.org
REFRESH-INTERVAL;VALUE=DURATION:PT1H
X-Robots-Tag:noindex
X-PUBLISHED-TTL:PT1H
BEGIN:VTIMEZONE
TZID:Europe/Paris
BEGIN:DAYLIGHT
TZOFFSETFROM:+0100
TZOFFSETTO:+0200
TZNAME:CEST
DTSTART:20230326T010000
END:DAYLIGHT
BEGIN:STANDARD
TZOFFSETFROM:+0200
TZOFFSETTO:+0100
TZNAME:CET
DTSTART:20231029T010000
END:STANDARD
BEGIN:DAYLIGHT
TZOFFSETFROM:+0100
TZOFFSETTO:+0200
TZNAME:CEST
DTSTART:20240331T010000
END:DAYLIGHT
BEGIN:STANDARD
TZOFFSETFROM:+0200
TZOFFSETTO:+0100
TZNAME:CET
DTSTART:20241027T010000
END:STANDARD
BEGIN:DAYLIGHT
TZOFFSETFROM:+0100
TZOFFSETTO:+0200
TZNAME:CEST
DTSTART:20250330T010000
END:DAYLIGHT
BEGIN:STANDARD
TZOFFSETFROM:+0200
TZOFFSETTO:+0100
TZNAME:CET
DTSTART:20251026T010000
END:STANDARD
END:VTIMEZONE
BEGIN:VEVENT
DTSTART;TZID=Europe/Paris:20240505T080000
DTEND;TZID=Europe/Paris:20240505T170000
DTSTAMP:20260421T120838
CREATED:20240426T170749Z
LAST-MODIFIED:20241030T191005Z
UID:10000066-1714896000-1714928400@crypto-stamps.org
SUMMARY:GHANA CS 1.0 - THE CELEBRATION OF THE 25TH ANNIVERSARY OF THE ENSTOOLMENT OF OTUMFUO OSEI TUTU II
DESCRIPTION:https://ghanapost.com.gh/otumfuostamp/shop/ \n10.000 pieces of Cryptostamps are issued. \n100 pieces of the VIP NFT collector box are issued. \nWhite stamp frame: This NFT is common\, it appears in 40% of the issue. \nBronze stamp frame: This NFT is rare\, it appears in 30% of the issue. \nSilver stamp frame: This NFT is super rare\, it appears in 20% of the issue. \nGold stamp frame: This NFT is ultra rare\, it only appears in 10% of the issue. \n  \n  20g gold
URL:https://crypto-stamps.org/events/ghana-cs-1-0-the-celebration-of-the-25th-anniversary-of-the-enstoolment-of-otumfuo-osei-tutu-ii/
END:VEVENT
END:VCALENDAR